
BEGIN:VCALENDAR
VERSION:2.0
PRODID:-//T Register - ECPv4.7.0.1//NONSGML v1.0//EN
CALSCALE:GREGORIAN
METHOD:PUBLISH
X-WR-CALNAME:T Register
X-ORIGINAL-URL:https://www.mgcc.co.uk/t-register
X-WR-CALDESC:Events for T Register
BEGIN:VEVENT
DTSTART;VALUE=DATE:20220925
DTEND;VALUE=DATE:20220926
DTSTAMP:20260422T054723
CREATED:20220215T110533Z
LAST-MODIFIED:20220321T200049Z
UID:106762-1664064000-1664150399@www.mgcc.co.uk
SUMMARY:T Register at the Kop Hill Climb
DESCRIPTION:We have decided that the Kop Hill event is not really suitable as a venue for our traditional T Party due to the restrictions on the number of our cars in the paddock area insisted on by the organisers. Nevertheless it is a great event and the organisers have shown great interest in our attendance there\, and it is likely that spaces will be made available for some of our cars to participate in the hill climb.\nWe have been given space in the paddock on both days of the event – Saturday 24 September and Sunday 25 September and on each day there will be spaces for up to 10 T Types to park in our allocated paddock area.\nYou can book to participate in the hill climb on either or both of the days and parking is available for these cars in the paddock area.\nYou can of course just book as a normal spectator and park in the general car park. \nThe Paddock area is on the south west of the junction of Kop Hill\, Brimmers Road and New Road\, and spectator viewing of the event is on the south east side of Kop Hill.\nIt will cost members £25 to park on our reserved space in the paddock but this is for both driver and a passenger. \nWe have created a web page giving all the details and which also aims to gauge interest in the event from T Register members which also contains all the links to registering with Kop Hill for the paddock space and the hill climb itself. Note that the booking for both parking with the T Register in the paddock and registering for the hill climb\, both open on 4 April –\nhttps://www.mgcc.co.uk/t-register/t-register-at-kop-hill/ \nNote also that all the proceeds from the Kop Hill event are donated to Charity and it won the Queen’s Award for Voluntary Service in 2020.\nThere is a video below to give you a flavour of the event. \n \n
URL:https://www.mgcc.co.uk/t-register/event/t-register-t-party-kop-hill-climb/
LOCATION:Kop Hill Climb\, Princes Risborough\, Kop Hill\, Princes Risborough\, HP27 0LA\, United Kingdom
END:VEVENT
END:VCALENDAR