
BEGIN:VCALENDAR
VERSION:2.0
PRODID:-//T Register - ECPv4.7.0.1//NONSGML v1.0//EN
CALSCALE:GREGORIAN
METHOD:PUBLISH
X-WR-CALNAME:T Register
X-ORIGINAL-URL:https://www.mgcc.co.uk/t-register
X-WR-CALDESC:Events for T Register
BEGIN:VEVENT
DTSTART;VALUE=DATE:20230806
DTEND;VALUE=DATE:20230807
DTSTAMP:20260421T180859
CREATED:20230605T163816Z
LAST-MODIFIED:20230628T133955Z
UID:112711-1691280000-1691366399@www.mgcc.co.uk
SUMMARY:T Register T Party at the Buckinghamshire Railway Centre
DESCRIPTION:The T Register are pleased to announce that the T Register T Party for 2023 will take place at the Buckinghamshire Railway Centre at Quainton on Sunday 6th August. \nThe date is when the Centre will celebrate the 60th Anniversary of the Great Train Robbery\, and their Traveling Post Office will be holding special activities between 10.30am-4pm on a special steaming day. \nThere will be dedicated parking for us on grass and opening times are 10.30 until 17.00\, with last entry at 3.30pm. Please note that there are HS2 works in progress around the area and all the latest info on getting to the venue is on the Buckinghamshire Railway Centre website. At the moment\, the best way to approach the menu is from the village of Quainton. \nThe cost will be a concession rate of £6 per head\, which includes a trip in one of the steam trains. There is no booking required\, the concessionary entry fee is paid on entry. But the Buckinghamshire Railway Centre would like to be kept informed as to how many T Type owners are likely to arrive\, so we would ask if you could please complete our form below if you intend to join us so we can keep the Centre informed as to numbers. \n\n
URL:https://www.mgcc.co.uk/t-register/event/t-register-t-party-buckinghamshire-railway-centre/
LOCATION:Buckinghashire Railway Centre\, Station Road\, Quainton\, Aylesbury\, Buckinghamshire\, HP22 4BY\, United Kingdom
CATEGORIES:T Register
END:VEVENT
END:VCALENDAR