
BEGIN:VCALENDAR
VERSION:2.0
PRODID:-//T Register - ECPv4.7.0.1//NONSGML v1.0//EN
CALSCALE:GREGORIAN
METHOD:PUBLISH
X-WR-CALNAME:T Register
X-ORIGINAL-URL:https://www.mgcc.co.uk/t-register
X-WR-CALDESC:Events for T Register
BEGIN:VEVENT
DTSTART;VALUE=DATE:20230508
DTEND;VALUE=DATE:20230513
DTSTAMP:20260421T235928
CREATED:20221105T133834Z
LAST-MODIFIED:20230107T184344Z
UID:112267-1683504000-1683935999@www.mgcc.co.uk
SUMMARY:T Register Spring Tour to the Ardennes
DESCRIPTION:Bill and Sally Silcock have decided to return to visiting the Belgian Ardennes from 8th to 12th May 2023\, using the same hotel used in 2017 (pictured above). Arrangements with the hotel have now been finalised and twenty rooms have been reserved at the Castel de Pont-à-Lesse near Dinant from Monday the 8th May for 4 nights. The hotel gives secure parking\, and those who went on the 2017 visit there found it excellent. \nCosts\nA double or twin room will cost €878.80 and €585.40 for a single room. This includes a supplement of €13.00 per person for a four-course gala dinner on the last night\, but does not include drinks or other extras.\nThe hotel requires a 30% deposit in a single payment on or before 15 March 2023. This equates to €263.64 for a double/twin and €175.62 for a single room: the balance will be payable\, together with any extras\, by individual participants before leaving.\nThere will be an entry fee of £10 per person to cover administration costs \n
URL:https://www.mgcc.co.uk/t-register/event/t-register-spring-tour-ardennes/
LOCATION:Castel de Pont-à-Lesse\, Pont-à-Lesse 36\, Dinant\, 5500\, Belgium
CATEGORIES:T Register,T Register road run and residential
ATTACH;FMTTYPE=image/jpeg:https://www.mgcc.co.uk/t-register/wp-content/uploads/sites/31/2023/01/Spring-Tour-for-WP-Events-header.jpg
END:VEVENT
END:VCALENDAR