
BEGIN:VCALENDAR
VERSION:2.0
PRODID:-//T Register - ECPv4.7.0.1//NONSGML v1.0//EN
CALSCALE:GREGORIAN
METHOD:PUBLISH
X-WR-CALNAME:T Register
X-ORIGINAL-URL:https://www.mgcc.co.uk/t-register
X-WR-CALDESC:Events for T Register
BEGIN:VEVENT
DTSTART;TZID=Europe/London:20230401T093000
DTEND;TZID=Europe/London:20230401T160000
DTSTAMP:20260422T042737
CREATED:20221105T121716Z
LAST-MODIFIED:20230311T165239Z
UID:112261-1680341400-1680364800@www.mgcc.co.uk
SUMMARY:T Register Rebuild
DESCRIPTION:The information for Rebuild 2023 has now been updated and you can now book online for the event below. \nRebuild has been booked for Saturday 1 April at the British Motor Museum\, Gaydon\, and will start at 09.30 with bacon butties\, with a session start at 10.00. There will be tea and coffee breaks and a lunch provided so rest assured we will keep you well fed and watered. And entry to the British Motor Museum will be free. \nThe programme will consist of sessions on \n\nPaul Ireland – the Hot Starting problem\nEric Worpe – Water pumps and cooling\nPeter Edney – Tuning and Performance for XPAG engines\n\n\nThere will also be an open panel session\, and Rebuild will finish by 16.00. \nThere will be the usual bring and buy stall for you to sell your spares\, and there is a form to use for listing them. \nThe cost for the event is being kept to the same as for 2022\, which is £47 for MGCC members\, Other costs are shown in the form below which you can complete to join in the event. \nPlease note that after completing and submitting the form\, you will need to send payment separately\, preferably by Bank Transfer\, notifying the organiser Barry Knight that you have done so. The bank transfer details are shown after you press ‘Submit’ on the form. \nPlease also note that the T Register cannot process credit card payments. \nAnd don’t forget\, Rebuild will be immediately followed by the T Register AGM so please consider remaining for this and support your Officers and Committee. \n\nThe information/materials imparted by Presenters at REBUILD is provided in good faith\, but without warranty\, explicit or implied.. The MG Car Club\, T-Register\, its Officials\, Presenters & Organisers accept no liability for any actions subsequently taken by attendees based on that information or materials Always seek advice from a competent person before undertaking repairs/modifications which could affect the safety of yourself and your vehicle. The Organisers reserve the right to alter the programme\, if necessary\, due to unforeseen circumstances.\n
URL:https://www.mgcc.co.uk/t-register/event/t-register-rebuild-2/
LOCATION:British Motor Museum\, Banbury Road\, Gaydon\, Warwickshire\, CV35 0BJ\, United Kingdom
CATEGORIES:T Register,T Register static event
ATTACH;FMTTYPE=image/png:https://www.mgcc.co.uk/t-register/wp-content/uploads/sites/31/2022/11/T-Register-Rebuild-Facebook-header.png
END:VEVENT
END:VCALENDAR