
BEGIN:VCALENDAR
VERSION:2.0
PRODID:-//T Register - ECPv4.7.0.1//NONSGML v1.0//EN
CALSCALE:GREGORIAN
METHOD:PUBLISH
X-WR-CALNAME:T Register
X-ORIGINAL-URL:https://www.mgcc.co.uk/t-register
X-WR-CALDESC:Events for T Register
BEGIN:VEVENT
DTSTART;VALUE=DATE:20230212
DTEND;VALUE=DATE:20230213
DTSTAMP:20260422T042726
CREATED:20221105T121348Z
LAST-MODIFIED:20230108T092738Z
UID:112258-1676160000-1676246399@www.mgcc.co.uk
SUMMARY:T Register at the MG and Triumph Spares Day
DESCRIPTION:The MG and Triumph Spares Day returns to Stoneleigh for 2023 and the T Register will have a stand there in Hall 1\, and you can sell your unwanted T Type spares there. \nAll we need is your contact details (mobile phone is best so we can get you if you’ve wandered off and people are clamouring to buy) and the price you’re looking for. There is a form to use for describing your spares you want to sell.\nThe stand is once again being organised by Barry Knight so if you have any questions\, contact him at barglen@ntlworld.com.\nWe’re also looking for volunteers for the stand so if you think you can spare an hour\, contact Barry at his email address above. \nThe advance booking cost is £10 per person\, and £15 on the day. And we presume there will be parking in the cow sheds for those arriving in MGs! \n
URL:https://www.mgcc.co.uk/t-register/event/t-register-mg-triumph-spares-day/
LOCATION:National Agricultural and Exhibition Centre\, Stoneleigh\, Stoneleigh\, Kenilworth\, Warwickshire\, CV8 2LZ\, United Kingdom
CATEGORIES:T Register,T Register static event
ATTACH;FMTTYPE=image/jpeg:https://www.mgcc.co.uk/t-register/wp-content/uploads/sites/31/2023/01/Stoneleigh-for-WP-Events-header.jpg
END:VEVENT
END:VCALENDAR