
BEGIN:VCALENDAR
VERSION:2.0
PRODID:-//T Register - ECPv4.7.0.1//NONSGML v1.0//EN
CALSCALE:GREGORIAN
METHOD:PUBLISH
X-WR-CALNAME:T Register
X-ORIGINAL-URL:https://www.mgcc.co.uk/t-register
X-WR-CALDESC:Events for T Register
BEGIN:VEVENT
DTSTART;VALUE=DATE:20230610
DTEND;VALUE=DATE:20230612
DTSTAMP:20260421T194050
CREATED:20221105T122424Z
LAST-MODIFIED:20230302T144005Z
UID:112263-1686355200-1686527999@www.mgcc.co.uk
SUMMARY:T Register at MG and Triumph Live 100
DESCRIPTION:The dates for this event have been confirmed and it promises to be an extravagant celebration of the MG Centenary. \n \nThe T Register will have a marquee there as usual and there will be Register parking for your T Type. \n
URL:https://www.mgcc.co.uk/t-register/event/t-register-mg-triumph-live-100/
LOCATION:Silverstone Circuit\, Silverstone Circuit\, Towcester\, Northamptonshire\, NN12 8TN\, United Kingdom
CATEGORIES:T Register,T Register static event
ATTACH;FMTTYPE=image/jpeg:https://www.mgcc.co.uk/t-register/wp-content/uploads/sites/31/2023/01/MG-Live-for-WP-Events-header.jpg
END:VEVENT
END:VCALENDAR