
BEGIN:VCALENDAR
VERSION:2.0
PRODID:-//T Register - ECPv4.7.0.1//NONSGML v1.0//EN
CALSCALE:GREGORIAN
METHOD:PUBLISH
X-WR-CALNAME:T Register
X-ORIGINAL-URL:https://www.mgcc.co.uk/t-register
X-WR-CALDESC:Events for T Register
BEGIN:VEVENT
DTSTART;VALUE=DATE:20220906
DTEND;VALUE=DATE:20220910
DTSTAMP:20260422T071033
CREATED:20211124T212458Z
LAST-MODIFIED:20220215T101011Z
UID:105342-1662422400-1662767999@www.mgcc.co.uk
SUMMARY:T Register Autumn Tour to Yorkshire
DESCRIPTION:The Aldwark Manor Hotel \nWe have moved the dates for this event to a midweek as all the suitable hotels we have looked at were already booked by wedding parties at weekends. The Aldwark Manor Hotel was found by Jeff and Kate Marsden after much searching and you can view their facilities by going to their website. \nWe are now in a position to accept entries for the Tour. We have reserved 28 Classic rooms in the main hotel at £601 and 12 new ‘Bunker’ rooms which are currently being built (the hotel has a golf course) in a separate building at £496. Attendees will book direct with the hotel using the booking code shown below. For single occupancy\, please contact Annie Matthews first. \nBooking\nThe terms and conditions include provision for rescheduling due to any future Government COVID requirements. A deposit of 25% is payable on booking\, with the remaining 75% payable 6-8 weeks prior to the event.\nThe booking code is AMEMG to get the rate above. You can book direct with the hotel by emailing reservations@aldwarkmanorhotel.co.uk or by telephone on 01347 838146. \nCancellation terms are \n\n25% of the Contracted Value between 182 and 127 days prior to the arrival date\n50% of the Contracted Value between 126 days and 31 days prior to the arrival date\n100% of the Contracted Value 30 days prior to the arrival date\n\nThere is also a T Register Booking Form for the event and an entry fee of £50 to cover preparation of road book and other items. Please complete the form and send it back to the Tour Administrator Annie Matthews via email\, or by post to \nAnnie Matthews\, Shepherds Barn\, Advent\, Camelford\, Cornwall\, PL32 9QF \nCan you please pay the entry fee by bank transfer to:-\nLloyds Bank – account name: ‘MGCC T Register’\nSort code: 30 18 88\nAccount number: 00373841\nand please add your name and Autumn Tour as the reference. \nThere will be more news and information on the tours and highlights to be seen as their planning progresses. \n
URL:https://www.mgcc.co.uk/t-register/event/t-register-autumn-tour-yorkshire/
LOCATION:Aldwark Manor Hotel\, Aldwark\, Alne\, York\, Yorkshire\, YO61 1UF\, United Kingdom
CATEGORIES:T Register,T Register road run and residential
END:VEVENT
END:VCALENDAR