
BEGIN:VCALENDAR
VERSION:2.0
PRODID:-//T Register - ECPv4.7.0.1//NONSGML v1.0//EN
CALSCALE:GREGORIAN
METHOD:PUBLISH
X-WR-CALNAME:T Register
X-ORIGINAL-URL:https://www.mgcc.co.uk/t-register
X-WR-CALDESC:Events for T Register
BEGIN:VEVENT
DTSTART;TZID=Europe/London:20230401T160000
DTEND;TZID=Europe/London:20230401T170000
DTSTAMP:20260422T014007
CREATED:20230130T115338Z
LAST-MODIFIED:20230130T120106Z
UID:112449-1680364800-1680368400@www.mgcc.co.uk
SUMMARY:T Register Annual General Meeting 2023
DESCRIPTION:This is the formal notice of the T Register Annual General Meeting 2023. \nIt will be held on Saturday 1st April 2023 at approx 4.00 pm at the British Motor Museum\, Banbury Road\, Gaydon CV35 0BJ \nAgenda\nApologies for absence\nMinutes of last AGM\nChairman’s Report\nTreasurer’s Report\nCompetition Secretary’s Report\nElection of Officers\nElection of Committee members\nAppointment of Council representative\nA.O.B. \n  \nNominations (forms are available on the T Register website or from the address below) and topics for A.O.B. should be sent in writing by 13 March 2023 to:\nThe Secretary\, MGCC T Register\, 29 Church Street\, Ampthill\, Bedfordshire MK45 2PL\, or by e-mail to: treg.sec@ntlworld.com by the same date. \n
URL:https://www.mgcc.co.uk/t-register/event/t-register-annual-general-meeting/
LOCATION:British Motor Museum\, Banbury Road\, Gaydon\, Warwickshire\, CV35 0BJ\, United Kingdom
CATEGORIES:T Register
END:VEVENT
END:VCALENDAR