
BEGIN:VCALENDAR
VERSION:2.0
PRODID:-//MGC Register - ECPv4.7.0.1//NONSGML v1.0//EN
CALSCALE:GREGORIAN
METHOD:PUBLISH
X-WR-CALNAME:MGC Register
X-ORIGINAL-URL:https://www.mgcc.co.uk/mgc-register
X-WR-CALDESC:Events for MGC Register
BEGIN:VEVENT
DTSTART;TZID=UTC+0:20270623T150000
DTEND;TZID=UTC+0:20270627T110000
DTSTAMP:20260419T143521
CREATED:20260417T132045Z
LAST-MODIFIED:20260417T142327Z
UID:1233-1813762800-1814094000@www.mgcc.co.uk
SUMMARY:MGC 60
DESCRIPTION:MGC 60th Anniversary – full booking details will be here soon….. \nSave the dates – 23-27 June 2027 \n
URL:https://www.mgcc.co.uk/mgc-register/event/mgc-60/
END:VEVENT
END:VCALENDAR