
BEGIN:VCALENDAR
VERSION:2.0
PRODID:-//MGB Register - ECPv4.7.0.1//NONSGML v1.0//EN
CALSCALE:GREGORIAN
METHOD:PUBLISH
X-WR-CALNAME:MGB Register
X-ORIGINAL-URL:https://www.mgcc.co.uk/mgb-register
X-WR-CALDESC:Events for MGB Register
BEGIN:VEVENT
DTSTART;TZID=UTC+0:20260607T093000
DTEND;TZID=UTC+0:20260607T170000
DTSTAMP:20260419T163404
CREATED:20250427T063332Z
LAST-MODIFIED:20251125T071040Z
UID:119-1780824600-1780851600@www.mgcc.co.uk
SUMMARY:MGs in The Park with the MGB Register
DESCRIPTION: \nThis event always draws a lot of MG’s. \nThe Oxfordshire MG Owners Club invites you to attend their MGs in the Park 2026 event. \nJoin the MGB Register as we attend this great event on Sunday 7 June 2026 at the Cotswold Wildlife Park hosted by the Oxfordshire MG Owners Club at this annual event. \n\nFree entry to the Wildlife Park for MG and driver\nDiscounted entry fee for MG passengers\nFree entry to the MG event once in the Park\nGates open at 9.30am\, no booking required\n\nAttractions include: \n\nThe fabulous 160 acre Cotswold Wildlife Park\nPride of Ownership Competition Sponsored by Adrian Flux\nCar of the Show – The King Award\nMG Owners Club Stand\nVarious MG Register Stands\nMG Trade Stands\nGeneral Trade and craft Stands\nMega raffle\n\n\n\n\nAll classic and modern MGs are welcome. The event attracts over five hundred MGs ranging from TAs\, MGAs\, Midgets and MGB/Cs through to the MGF/TF convertibles\, the ZR/ZS/ZT and contemporary SAIC MGs. \nNo need for Club membership\, this event welcomes all MGs and their owners. \nThis is a fabulous award-winning venue with so much to see and do. The Wildlife Park is home to Meerkats\, Humboldt Penguins\, Asiatic Lions\, Morelet’s Crocodiles\, Red Panda and famous for breading White Rhino\, to name but a few. Why not bring the family along\, as the kids will love it too? \nDogs are welcome on leads and picnics are fine. The Park also has many quality food outlets. No barbecues\, stoves or drones are allowed. \nFor More information please visit: www.oxfordshiremgoc.co.uk \n\n
URL:https://www.mgcc.co.uk/mgb-register/event/mgs-park-mgb-gt60-celebrations/
LOCATION:Cotswold Wildlife Park\, Bradwell Grove\,\, Burford\, Oxfordshire\, OX18 4JP\, United Kingdom
ATTACH;FMTTYPE=image/jpeg:https://www.mgcc.co.uk/mgb-register/wp-content/uploads/sites/46/2025/04/MGs-in-the-Park-2026-e1764054175649.jpg
END:VEVENT
END:VCALENDAR