
BEGIN:VCALENDAR
VERSION:2.0
PRODID:-//MGB Register - ECPv4.7.0.1//NONSGML v1.0//EN
CALSCALE:GREGORIAN
METHOD:PUBLISH
X-WR-CALNAME:MGB Register
X-ORIGINAL-URL:https://www.mgcc.co.uk/mgb-register
X-WR-CALDESC:Events for MGB Register
BEGIN:VEVENT
DTSTART;VALUE=DATE:20260412
DTEND;VALUE=DATE:20260413
DTSTAMP:20260419T181053
CREATED:20241111T101937Z
LAST-MODIFIED:20260107T190915Z
UID:88-1775952000-1776038399@www.mgcc.co.uk
SUMMARY:THE MGB REGISTER SPRING RUN 2026
DESCRIPTION: \nTHE MGB REGISTER SPRING RUN 2026\nSupported by the David Manners Group \n \n  \nThe 2026 Spring Run – Starts at Millets Farm – finishing at Batsford Arboretum. \nEntry is £28 for MGCC members & £34 for non members. \nStarting at Millets Farm Centre\, where you can grab breakfast or hot drinks before setting off on our Spring Run. \nEntry includes a full route\, entry into Cafe\, Gift Shop\, Tool Museum\, Garden and Plant Centre at Batsford Arboretum. \nEntry to the Arboretum is extra & can be purchased on the day (visit https://batsarb.co.uk/ for more info). \nWe will be starting from Millets Farm Centre west of Abingdon more info here. \n \nFinishing at Batsford Arboretum\, Moreton in Marsh\, GL56 9AT \n \nBatsford Arboretum Info \nThere is a maximum limit of 100 MG’s – closing date for entries 3rd April. \nBOOK YOUR PLACE ONLINE \n
URL:https://www.mgcc.co.uk/mgb-register/event/mgb-register-spring-run-2026/
LOCATION:Millets Farm Centre\, Kingston Rd\, Frilford\, Abingdon\, Oxfordshire\, OX13 5HB\, United Kingdom
ATTACH;FMTTYPE=image/jpeg:https://www.mgcc.co.uk/mgb-register/wp-content/uploads/sites/46/2024/11/SR26-scaled.jpg
END:VEVENT
END:VCALENDAR