
BEGIN:VCALENDAR
VERSION:2.0
PRODID:-//MGB Register - ECPv4.7.0.1//NONSGML v1.0//EN
CALSCALE:GREGORIAN
METHOD:PUBLISH
X-WR-CALNAME:MGB Register
X-ORIGINAL-URL:https://www.mgcc.co.uk/mgb-register
X-WR-CALDESC:Events for MGB Register
BEGIN:VEVENT
DTSTART;TZID=UTC+0:20251217T100000
DTEND;TZID=UTC+0:20251217T123000
DTSTAMP:20260419T212747
CREATED:20251125T085312Z
LAST-MODIFIED:20251125T085527Z
UID:148-1765965600-1765974600@www.mgcc.co.uk
SUMMARY:MGB Register Monthly Breakfast Meet
DESCRIPTION: \n  \nBreakfast meet at Kingsley Refuel Cafe\, on the A40 near Eynsham.\nThis is an amazing venue\, decorated in classic car memorabilia and has to be seen to be believed. You can look it up here: www.kingsleycars.co.uk/kingsley-cafe/ \nThis will always be the third Wednesday of the month. \nThis is a regular event that is aimed at showcasing your MGB but in the winter and in poor weather turning up in your daily driver is acceptable. It is really all about meeting like minded people and friendship. Partners are very welcome. No need to book\, just turn up. \n  \nThe location of the café lends itself to enabling you to make it a full day out as the A40 road takes you straight into the Cotswolds\, with all the scenery and attractions you could wish for. Burford\, for instance is only 12 miles away\, Blenheim Palace only 6 miles away. . \nKingsley Refuel Café is on the A40 at Eynsham\, Oxfordshire OX29 4EF \n
URL:https://www.mgcc.co.uk/mgb-register/event/mgb-register-monthly-breakfast-meet/
ATTACH;FMTTYPE=image/png:https://www.mgcc.co.uk/mgb-register/wp-content/uploads/sites/46/2024/11/header-logo-e1731319968574.png
END:VEVENT
END:VCALENDAR