
BEGIN:VCALENDAR
VERSION:2.0
PRODID:-//Lincolnshire Centre - ECPv4.7.0.1//NONSGML v1.0//EN
CALSCALE:GREGORIAN
METHOD:PUBLISH
X-WR-CALNAME:Lincolnshire Centre
X-ORIGINAL-URL:https://www.mgcc.co.uk/lincolnshire-centre
X-WR-CALDESC:Events for Lincolnshire Centre
BEGIN:VEVENT
DTSTART;TZID=UTC+0:20260802T080000
DTEND;TZID=UTC+0:20260802T170000
DTSTAMP:20260419T145001
CREATED:20251216T115835Z
LAST-MODIFIED:20251216T115835Z
UID:231-1785657600-1785690000@www.mgcc.co.uk
SUMMARY:Revesby Show
DESCRIPTION:Another regular event on our yearly calendar\, this event attracts many visitors each year. A one day show with many exhibitors from all walks of country life. Please let us know if you wish to display your MG on our stand. \nMore info to follow. \n
URL:https://www.mgcc.co.uk/lincolnshire-centre/event/revesby-show/
LOCATION:Revesby\, United Kingdom
CATEGORIES:Car Show & Pride of Ownership
ATTACH;FMTTYPE=image/jpeg:https://www.mgcc.co.uk/lincolnshire-centre/wp-content/uploads/sites/11/2025/03/Red-Hall3-scaled.jpg
END:VEVENT
END:VCALENDAR