
BEGIN:VCALENDAR
VERSION:2.0
PRODID:-//Lincolnshire Centre - ECPv4.7.0.1//NONSGML v1.0//EN
CALSCALE:GREGORIAN
METHOD:PUBLISH
X-WR-CALNAME:Lincolnshire Centre
X-ORIGINAL-URL:https://www.mgcc.co.uk/lincolnshire-centre
X-WR-CALDESC:Events for Lincolnshire Centre
BEGIN:VEVENT
DTSTART;VALUE=DATE:20261011
DTEND;VALUE=DATE:20261012
DTSTAMP:20260419T150000
CREATED:20251216T145234Z
LAST-MODIFIED:20260114T140508Z
UID:247-1791676800-1791763199@www.mgcc.co.uk
SUMMARY:Autotest at Strubby Airfield
DESCRIPTION:Our final competitive event in the 2026 series of autotests. \nEntry forms available now on the Lincolnshire Centre website on the calendar tab. \n  \n
URL:https://www.mgcc.co.uk/lincolnshire-centre/event/autotest-strubby-airfield/
LOCATION:Strubby Airfield\, Near Alford\, Lincolnshire\, LN130LW\, United Kingdom
CATEGORIES:Autotest
ATTACH;FMTTYPE=image/jpeg:https://www.mgcc.co.uk/lincolnshire-centre/wp-content/uploads/sites/11/2025/12/midget-rear-view-autotest-scaled.jpeg
END:VEVENT
END:VCALENDAR