
BEGIN:VCALENDAR
VERSION:2.0
PRODID:-//Lincolnshire Centre - ECPv4.7.0.1//NONSGML v1.0//EN
CALSCALE:GREGORIAN
METHOD:PUBLISH
X-WR-CALNAME:Lincolnshire Centre
X-ORIGINAL-URL:https://www.mgcc.co.uk/lincolnshire-centre
X-WR-CALDESC:Events for Lincolnshire Centre
BEGIN:VEVENT
DTSTART;VALUE=DATE:20260517
DTEND;VALUE=DATE:20260518
DTSTAMP:20260419T150155
CREATED:20251216T110634Z
LAST-MODIFIED:20260114T140737Z
UID:212-1778976000-1779062399@www.mgcc.co.uk
SUMMARY:Autotest - Strubby Airfield Sunday 17th May 2026
DESCRIPTION:The second in our series of autotests to take place in 2026\, again this takes place at Strubby airfield \, near Alford. This promises to be a competitive and exciting event in our calendar. Spectators are welcomed\, you could also volunteer to be a Marshall at the event if not entering. \nEntry forms available now on the Lincolnshire Centre website on the calendar tab. \n
URL:https://www.mgcc.co.uk/lincolnshire-centre/event/autotest-strubby-airfield-sunday-17th-may-2026/
LOCATION:Strubby Airfield\, Near Alford\, Lincolnshire\, LN130LW\, United Kingdom
CATEGORIES:Autotest
ATTACH;FMTTYPE=image/jpeg:https://www.mgcc.co.uk/lincolnshire-centre/wp-content/uploads/sites/11/2019/02/IMG_1708.jpg
END:VEVENT
END:VCALENDAR