

BEGIN:VCALENDAR
VERSION:2.0
PRODID:-//MG Car Club - ECPv4.7.0.1//NONSGML v1.0//EN
CALSCALE:GREGORIAN
METHOD:PUBLISH
X-WR-CALNAME:MG Car Club
X-ORIGINAL-URL:https://www.mgcc.co.uk
X-WR-CALDESC:Events for MG Car Club
BEGIN:VEVENT
DTSTART;TZID=Europe/London:20190501T080000
DTEND;TZID=Europe/London:20190501T170000
DTSTAMP:20260420T062533
CREATED:20190501T125707Z
LAST-MODIFIED:20190501T125707Z
UID:12333-1556697600-1556730000@www.mgcc.co.uk
SUMMARY:Zed Register - ZEDS IN THE WEST
DESCRIPTION:The Haynes International Motor Museum is the UK’s largest collection of cars from around the world with over 400 amazing cars and bikes from the dawn of motoring in the 1800’s through to nostalgic classics of the 1950’s and 1960’s\, together with more modern super cars like the Jaguar XJ220.   ZED members will benefit from discounted admission to the museum with tours and activities for families\, children and enthusiasts alike. \n
URL:https://www.mgcc.co.uk/event/zed-register-zeds-west/
LOCATION:Haynes International Motor Museum\, Sparkford\, Yeovil\, Somerset\, BA22 7LH\, United Kingdom
ATTACH;FMTTYPE=image/jpeg:https://www.mgcc.co.uk/wp-content/uploads/2019/05/2019-PoL-Promo.jpg
END:VEVENT
END:VCALENDAR