

BEGIN:VCALENDAR
VERSION:2.0
PRODID:-//MG Car Club - ECPv4.7.0.1//NONSGML v1.0//EN
CALSCALE:GREGORIAN
METHOD:PUBLISH
X-WR-CALNAME:MG Car Club
X-ORIGINAL-URL:https://www.mgcc.co.uk
X-WR-CALDESC:Events for MG Car Club
BEGIN:VEVENT
DTSTART;VALUE=DATE:20230825
DTEND;VALUE=DATE:20230828
DTSTAMP:20260422T211745
CREATED:20221118T142738Z
LAST-MODIFIED:20221128T170339Z
UID:41055-1692921600-1693180799@www.mgcc.co.uk
SUMMARY:Silverstone Festival 2023
DESCRIPTION:The Silverstone Festival is an annual three-day car and race event at the UK’s Silverstone circuit\, home of the British Grand Prix. \nIn 2023\, the event runs from 25th – 27th August 2023 and features hundreds of historic race cars in circa 20 races over the weekend\, displays from over 100 car clubs with more than 10\,000 classic cars\, free access to the paddocks and grandstands\, interactive activities\, dynamic demonstrations\, live music on Friday and Saturday evenings\, a shopping village and lots more. \nUse your MG Car Club booking code to not only gain a discount on tickets but also to qualify for infield parking. You MUST use the code below in order to display your MG on our infield display stand. For those booking\, the MG Car Club will provide a club marquee\, a warm welcome plus an opportunity to purchase MGCC merchandise. \nImportant note on tickets: Our codes are all to be found in the members’ area. \n
URL:https://www.mgcc.co.uk/event/silverstone-classic-2023/
LOCATION:Silverstone Circuit\, Towcester\, Northamptonshire\, NN12 8TN\, United Kingdom
CATEGORIES:Car Club Events,Motorsports
ATTACH;FMTTYPE=image/jpeg:https://www.mgcc.co.uk/wp-content/uploads/2022/04/117150780_10158688663368086_5321965916419972803_n.jpg
END:VEVENT
END:VCALENDAR