

BEGIN:VCALENDAR
VERSION:2.0
PRODID:-//MG Car Club - ECPv4.7.0.1//NONSGML v1.0//EN
CALSCALE:GREGORIAN
METHOD:PUBLISH
X-WR-CALNAME:MG Car Club
X-ORIGINAL-URL:https://www.mgcc.co.uk
X-WR-CALDESC:Events for MG Car Club
BEGIN:VEVENT
DTSTART;VALUE=DATE:20240322
DTEND;VALUE=DATE:20240325
DTSTAMP:20260423T020130
CREATED:20240115T133055Z
LAST-MODIFIED:20240115T133055Z
UID:48996-1711065600-1711324799@www.mgcc.co.uk
SUMMARY:The Practical Classics Classic Car & Restoration Show 2024
DESCRIPTION:The Practical Classics Classic Car & Restoration Show is the show to attend whether you are looking to reignite your passion for cars\, finish a restoration project or simply want to reminisce with family and friends over the beautiful completed classic cars on display. Held at the NEC\,  Birmingham March 22-24\, the event brings together 1000+ cars on display; 150+ car clubs representing a wide variety of marques and models; 250+ exhibitors and autojumblers including restoration companies\, services providers and product suppliers; the Classic Car Auction; celebrities; car competitions; practical workshops on restoration skills and lots more. \nAs a member of the MG Car Club there is a ticket offer for this show\, the Club code is available in the Members Area. \n
URL:https://www.mgcc.co.uk/event/practical-classics-classic-car-restoration-show-2024/
LOCATION:NEC\, North Ave\, Marston Green\, Birmingham\, B40 1NT
ATTACH;FMTTYPE=image/jpeg:https://www.mgcc.co.uk/wp-content/uploads/2024/01/nec2024-full.jpg
END:VEVENT
END:VCALENDAR