

BEGIN:VCALENDAR
VERSION:2.0
PRODID:-//MG Car Club - ECPv4.7.0.1//NONSGML v1.0//EN
CALSCALE:GREGORIAN
METHOD:PUBLISH
X-WR-CALNAME:MG Car Club
X-ORIGINAL-URL:https://www.mgcc.co.uk
X-WR-CALDESC:Events for MG Car Club
BEGIN:VEVENT
DTSTART;VALUE=DATE:20191108
DTEND;VALUE=DATE:20191111
DTSTAMP:20260422T221816
CREATED:20190517T113554Z
LAST-MODIFIED:20190517T113554Z
UID:12436-1573171200-1573430399@www.mgcc.co.uk
SUMMARY:Lancaster Insurance Classic Motor Show\, With Discovery 2019
DESCRIPTION:Join the biggest and best Classic Car Show in the UK!\nThe Lancaster Insurance Classic Motor Show\, with Discovery\, is the event not to be missed for any classic car owner\, collector\, enthusiast\, car club member or anyone with a general interest in classic cars. \nThe show brings together the world’s largest gathering of 300 car and motorcycle clubs with over 3\,000 iconic classic and vintage cars and motorbikes on display across seven halls at Birmingham’s NEC. \nAs well as admiring these amazing vehicles\, as visitors you have the opportunity to drive or buy your very own classic car\, source parts and tools for your maintenance and restoration needs from the UK’s largest indoor Autojumble and specialist traders\, or just enjoy the spectacle of the live auctions\, talks from motoring celebrities and insiders\, or gain insight from hundreds of classic car members. \nThe MG Car Club will have a presence at the show\, along with a ticket discount code for members. As soon as these details have been released\, they will be uploaded here. \n\n
URL:https://www.mgcc.co.uk/event/lancaster-insurance-classic-motor-show-discovery-2019/
LOCATION:NEC\, Birmingham
ATTACH;FMTTYPE=image/png:https://www.mgcc.co.uk/wp-content/uploads/2019/05/cms_logo_2019.png
END:VEVENT
END:VCALENDAR