

BEGIN:VCALENDAR
VERSION:2.0
PRODID:-//MG Car Club - ECPv4.7.0.1//NONSGML v1.0//EN
CALSCALE:GREGORIAN
METHOD:PUBLISH
X-WR-CALNAME:MG Car Club
X-ORIGINAL-URL:https://www.mgcc.co.uk
X-WR-CALDESC:Events for MG Car Club
BEGIN:VEVENT
DTSTART;VALUE=DATE:20231023
DTEND;VALUE=DATE:20231024
DTSTAMP:20260422T200117
CREATED:20230221T124813Z
LAST-MODIFIED:20230221T124813Z
UID:44403-1698019200-1698105599@www.mgcc.co.uk
SUMMARY:Goodwood Track Day\, 23rd October 2023
DESCRIPTION:
URL:https://www.mgcc.co.uk/event/goodwood-track-day-23rd-october-2023/
LOCATION:Goodwood\, Goodwood Track\, West Sussex
CATEGORIES:MGs on Track
ATTACH;FMTTYPE=image/jpeg:https://www.mgcc.co.uk/wp-content/uploads/2020/09/MG-On-Track-Goodwood-Oct-2009-10-scaled.jpg
END:VEVENT
END:VCALENDAR