

BEGIN:VCALENDAR
VERSION:2.0
PRODID:-//MG Car Club - ECPv4.7.0.1//NONSGML v1.0//EN
CALSCALE:GREGORIAN
METHOD:PUBLISH
X-WR-CALNAME:MG Car Club
X-ORIGINAL-URL:https://www.mgcc.co.uk
X-WR-CALDESC:Events for MG Car Club
BEGIN:VEVENT
DTSTART;VALUE=DATE:20231111
DTEND;VALUE=DATE:20231112
DTSTAMP:20260423T002349
CREATED:20230221T124927Z
LAST-MODIFIED:20230221T124927Z
UID:44407-1699660800-1699747199@www.mgcc.co.uk
SUMMARY:Bedford Autodrome Track Day\, 11th November 2023
DESCRIPTION:
URL:https://www.mgcc.co.uk/event/bedford-autodrome-track-day-11th-november-2023/
LOCATION:Bedford Autodrome
CATEGORIES:MGs on Track
ATTACH;FMTTYPE=image/jpeg:https://www.mgcc.co.uk/wp-content/uploads/2020/05/MGs-on-Track.jpg
END:VEVENT
END:VCALENDAR