

BEGIN:VCALENDAR
VERSION:2.0
PRODID:-//MG Car Club - ECPv4.7.0.1//NONSGML v1.0//EN
CALSCALE:GREGORIAN
METHOD:PUBLISH
X-WR-CALNAME:MG Car Club
X-ORIGINAL-URL:https://www.mgcc.co.uk
X-WR-CALDESC:Events for MG Car Club
BEGIN:VEVENT
DTSTART;VALUE=DATE:20191006
DTEND;VALUE=DATE:20191007
DTSTAMP:20260422T194233
CREATED:20190501T121425Z
LAST-MODIFIED:20190501T121425Z
UID:12317-1570320000-1570406399@www.mgcc.co.uk
SUMMARY:Abingdon Works Centre: Autumn Leaves Run
DESCRIPTION:Join the AWC for a final fling before the winter arrives! \nKeep an eye on the AWC website and newsletter for all the details. \nContact Richard Martin on 01235 529 331. \n
URL:https://www.mgcc.co.uk/event/abingdon-works-centre-autumn-leaves-run/
ATTACH;FMTTYPE=image/jpeg:https://www.mgcc.co.uk/wp-content/uploads/2019/05/DSC_1045.jpg
END:VEVENT
END:VCALENDAR